BEGIN:VCALENDAR
VERSION:2.0
PRODID:-// - ECPv6.15.17//NONSGML v1.0//EN
CALSCALE:GREGORIAN
METHOD:PUBLISH
X-ORIGINAL-URL:https://irpca.org
X-WR-CALDESC:Events for 
REFRESH-INTERVAL;VALUE=DURATION:PT1H
X-Robots-Tag:noindex
X-PUBLISHED-TTL:PT1H
BEGIN:VTIMEZONE
TZID:America/Denver
BEGIN:DAYLIGHT
TZOFFSETFROM:-0700
TZOFFSETTO:-0600
TZNAME:MDT
DTSTART:20180311T090000
END:DAYLIGHT
BEGIN:STANDARD
TZOFFSETFROM:-0600
TZOFFSETTO:-0700
TZNAME:MST
DTSTART:20181104T080000
END:STANDARD
BEGIN:DAYLIGHT
TZOFFSETFROM:-0700
TZOFFSETTO:-0600
TZNAME:MDT
DTSTART:20190310T090000
END:DAYLIGHT
BEGIN:STANDARD
TZOFFSETFROM:-0600
TZOFFSETTO:-0700
TZNAME:MST
DTSTART:20191103T080000
END:STANDARD
BEGIN:DAYLIGHT
TZOFFSETFROM:-0700
TZOFFSETTO:-0600
TZNAME:MDT
DTSTART:20200308T090000
END:DAYLIGHT
BEGIN:STANDARD
TZOFFSETFROM:-0600
TZOFFSETTO:-0700
TZNAME:MST
DTSTART:20201101T080000
END:STANDARD
END:VTIMEZONE
BEGIN:VEVENT
DTSTART;TZID=America/Denver:20190630T100000
DTEND;TZID=America/Denver:20190630T170000
DTSTAMP:20260423T023741
CREATED:20190614T141212Z
LAST-MODIFIED:20190619T134027Z
UID:2700-1561888800-1561914000@irpca.org
SUMMARY:Road Island Diner Tour - sponsored by Porsche Lehi
DESCRIPTION:Thank you to our sponsor Porsche Lehi. \nMeeting TIME is 10:00am \nMeeting LOCATION is Alice’s Kitchen in North Salt Lake. Address is 94 N. 400 W. North Salt Lake UT 84054 (come early for a great breakfast!) \nWe will be moseying our way on some fun roads for a visit (and maybe a late brunch) to the ROAD ISLAND DINER (981 W Weber Canyon Road) in Oakley UT 84054
URL:https://irpca.org/event/mystery-tour
LOCATION:Alice's Kitchen\, 94 N. 400 W\, North Salt Lake\, UT\, 84054\, United States
ORGANIZER;CN="Zana Anderson":MAILTO:tours@irpca.org
END:VEVENT
END:VCALENDAR