BEGIN:VCALENDAR
VERSION:2.0
PRODID:-// - ECPv6.15.17//NONSGML v1.0//EN
CALSCALE:GREGORIAN
METHOD:PUBLISH
X-ORIGINAL-URL:https://irpca.org
X-WR-CALDESC:Events for 
REFRESH-INTERVAL;VALUE=DURATION:PT1H
X-Robots-Tag:noindex
X-PUBLISHED-TTL:PT1H
BEGIN:VTIMEZONE
TZID:America/Denver
BEGIN:DAYLIGHT
TZOFFSETFROM:-0700
TZOFFSETTO:-0600
TZNAME:MDT
DTSTART:20200308T090000
END:DAYLIGHT
BEGIN:STANDARD
TZOFFSETFROM:-0600
TZOFFSETTO:-0700
TZNAME:MST
DTSTART:20201101T080000
END:STANDARD
BEGIN:DAYLIGHT
TZOFFSETFROM:-0700
TZOFFSETTO:-0600
TZNAME:MDT
DTSTART:20210314T090000
END:DAYLIGHT
BEGIN:STANDARD
TZOFFSETFROM:-0600
TZOFFSETTO:-0700
TZNAME:MST
DTSTART:20211107T080000
END:STANDARD
BEGIN:DAYLIGHT
TZOFFSETFROM:-0700
TZOFFSETTO:-0600
TZNAME:MDT
DTSTART:20220313T090000
END:DAYLIGHT
BEGIN:STANDARD
TZOFFSETFROM:-0600
TZOFFSETTO:-0700
TZNAME:MST
DTSTART:20221106T080000
END:STANDARD
END:VTIMEZONE
BEGIN:VEVENT
DTSTART;TZID=America/Denver:20210320T090000
DTEND;TZID=America/Denver:20210320T130000
DTSTAMP:20260422T050306
CREATED:20210227T040533Z
LAST-MODIFIED:20210314T033651Z
UID:3224-1616230800-1616245200@irpca.org
SUMMARY:Weather B Damned tour - Sponsored by Porsche Lehi
DESCRIPTION:You must pre-register for this event. Go to www.msreg.com/WBD2021 to sign up. Registration ends midnight March 19th. There is no fee for registering.  \nSPECIAL REGISTRATION NOTE: If this is your first time to register for an event at msreg.com\, thank you for coming here to register. In the past IRPCA has not asked for members and guests to register for tours. It was just show up and go. Due to changes in our health and safety landscape we are now asking for your cooperation to help us plan our tours by making your registration online. It helps us as organizers\, and we appreciate your cooperation. \n\nJoin us Saturday\, March 20 for our first tour of 2021! We've all been cooped up\, and it should be a lot of fun to get out and drive! As is our tradition our first tour of the year will stay out of the mountains. \nWe’ll be meeting at our sponsor’s location; Porsche Lehi\, 3425 N\, Digital Dr\, Lehi\, UT 84043 at 0900\, departing at 0930. On arrival please turn right at the first entrance and swing around the Audi showroom in order to queue up end to end\, facing south along the front of the Porsche dealership. \nThe tour is very similar to one from two years back when we followed the Pony Express route out to Rush Valley\, stopping at Pony Express Monuments and concluding our run at Utah Motorsports Campus. The drive will be about 100 miles\, and about 3 hours from Lehi to the conclusion in Grantsville. \nSAFETY: On arrival please park your cars with at least one space in between each car. At all times that you are out of your car\, please maintain a minimum of 6 feet between yourself and others that you don't live with. Masks are highly recommended\, or if local or state should mandate\, required. \nCOMFORT: Bring an empty bladder and a full tank :-). \nFORMS: The liability and communicable disease waivers that you normally sign as you arrive for the tour\, are now fully electronic and are part of finishing up this registration process. After you complete this registration by clicking on "proceed to checkout "\, the forms will be texted to your phone for completion.  Signed waivers will end up on your own mobile phone(s) as a text. We will ask you to display your signed waivers from your phone\, to the tour leader as you arrive for the tour. It feels like a mystery the first time you do it. Once you are done\, you'll say\, WOW that was simple! In the event that the waiver does not work for you after you complete registration\, you can always come back to this information page to download a copy of the waiver to your phone by entering this link on your phone's browser ---> https://irpca.speedwaiver.com/avmia \nWe are making every effort to go electronic with forms. HOWEVER\, if you do not have a mobile phone we do have a way for you to bring paper waivers as an alternative. If that is your situation\, FIRST please print ONE color (yes\, color if at all possible) copy of the waiver and have each person in your car sign that ONE copy per the instructions. Please enter "Weather B Damned" on the top line. Here is the link to the liability waiver--> RELEASE_AND_WAIVER_OF_LIABILITY-PCA2009.pdf  NEXT\, repeat the process by printing one copy of the Communicable Disease Waiver for EACH PERSON who will be on the tour. Here's the waiver --->>>  PCA Communicable Disease Waiver 20200625.pdf\nFINALLY- Bring these waivers with you. We will have a box for you to drop your signed waivers.
URL:https://irpca.org/event/tour-porsche-lehi-tooele-county-backroads
LOCATION:Porsche of Lehi\, 3425 N. Digital Drive\, Lehi\, UT\, 84043\, United States
ORGANIZER;CN="Rich Sanders":MAILTO:membership@irpca.org
END:VEVENT
BEGIN:VEVENT
DTSTART;TZID=America/Denver:20210327T080000
DTEND;TZID=America/Denver:20210327T170000
DTSTAMP:20260422T050306
CREATED:20210220T164303Z
LAST-MODIFIED:20210315T183910Z
UID:3206-1616832000-1616864400@irpca.org
SUMMARY:Autocross Provo Towne Center - Sponsored by Porsche Salt Lake
DESCRIPTION:Brand new venue! Check link and address below. \nNOTE: You must register online for this event. No day of registration will be available. \nPlease come out and join us at Provo Towne Center sponsored by Porsche Salt Lake.  \nADue to Covid limitations\, we will not have loaner helmets\, and we will not be able to allow first time auto crossers (unless you have previous experience with other groups like SCCA). \nRegistration: \nWe want to avoid personal contact as much as possible\, so please register and pay electronically at msreg.com/IRPCAMAR21 Pre-reg fee: $30.00 PCA members\, $40.00 non-members. \nPre-registration also secures you a spot should we have to limit attendance. \nThere will be no on-site registration. \nAlso\, please print\, fill out and bring the Registration and Tech Inspection form below with you: \nIRPCA Autocross Registration and Tech Inspection Form \nSchedule: \n8:00 am start course set up\n8:30 am finalize registration\, vehicle numbers\, complete tech sheets\n8:30 am vehicle check out\n9:30 am close registration\n9:45 am Driver safety meeting\n10:00 am AX morning runs\, depending on attendees volunteering\, getting ready and course length we can do 4-6 runs\n12:00 am lunch\n12:45 AX afternoon runs\, depending on attendees returning from lunch we can do 4-6 runs\n02:30 course break down and clean up.  Please stay to the end and volunteer.\n\n\nSet up \nVolunteers are always needed to help set up the course\, which is unique for every autocross event. Volunteers meet at 8 AM\, so arrive early if you can. Please help us\, we are a small group of volunteers. \nFirst cars will run no later than 10 AM\, following a drivers’ safety meeting. The day’s schedule depends on the number of entries\, but we usually take a quick lunch break around noon and wrap up by 3 PM. \nThis event is open to PCA members and friends\, so put the word out to enthusiast friends and licensed drivers who would like to come and learn to autocross\, or to get some more practice in. \nWhat to bring: \nA helmet carrying a 2010 (or newer) Snell “M” or “SA” rating is required. Due to the COVID-19 guidelines we will not make our loaner helmets available. Please also bring and wear your face mask at all times. Rubber gloves are recommended. \nBring plenty of water\, due to COVID-19 restrictions we don’t want to provide as usual water bottles. Pack your lunch.  food outlets might be limited. \nWhat is autocross? \nAutocross consists of navigating your car as quickly as possible through a course made of cones. It’s a great way for any licensed driver to improve skills in his or her weekend sports car or everyday car. We provide coaches to new autocross drivers who will ride with you and provide pointers. For safety reasons\, there is only ever one car on the course at a time\, and the course is designed to keep speeds relatively low. Each of your runs will be timed\, so that you can evaluate how much improvement you make on successive runs throughout the day. Come on out and give it a try. You will be AMAZED at how much progress you will make in one day! Without exception\, people who autocross comment about how their autocross experience has improved confidence and ability with everyday driving on the street. \nCome on out and give autocross a try! The social environment is low-key\, and the level of intensity you bring to the driving is completely up to you. \nPlease read before: \nhttp://irpca.org/course-worker-guidelines \nhttp://irpca.org/administrative-forms \n 
URL:https://irpca.org/event/autocross-provo-towne-center
LOCATION:Provo Towne Centre\, 1200 Towne Centre Blvd.\, Provo\, UT\, 84601\, United States
ORGANIZER;CN="Heiner Fuchs":MAILTO:ax@irpca.org
END:VEVENT
END:VCALENDAR